BEGIN:VCALENDAR
VERSION:2.0
PRODID:-//ChamberMaster//Event Calendar 2.0//EN
METHOD:PUBLISH
X-PUBLISHED-TTL:P1H
REFRESH-INTERVAL:P1H
CALSCALE:GREGORIAN
BEGIN:VTIMEZONE
TZID:America/Chicago
BEGIN:DAYLIGHT
RRULE:FREQ=YEARLY;BYMONTH=3;BYDAY=2SU
DTSTART:20070101T000000
TZOFFSETFROM:-0600
TZOFFSETTO:-0500
TZNAME:Central Daylight Time
END:DAYLIGHT
BEGIN:STANDARD
RRULE:FREQ=YEARLY;BYMONTH=11;BYDAY=1SU
DTSTART:20070101T000000
TZOFFSETFROM:-0500
TZOFFSETTO:-0600
TZNAME:Central Standard Time
END:STANDARD
END:VTIMEZONE
BEGIN:VEVENT
DTSTART;TZID=America/Chicago:20260424T120000
DTEND;TZID=America/Chicago:20260424T130000
X-MICROSOFT-CDO-ALLDAYEVENT:FALSE
SUMMARY:Standing Silent Witness - Gurnee
DESCRIPTION:Standing Silent Witness - GurneeApril is Sexual Assault Awareness Month (SAAM) a time when communities across the country come together to raise awareness\, support survivors\, and take meaningful action to end sexual violence. Sexual violence remains a serious issue both nationally and here in Illinois. In the United States\, someone is sexually assaulted approximately every 68 seconds\, and more than 400\,000 people experience sexual violence each year. Many survivors never report their assault due to fear\, stigma\, or lack of support. Here in Illinois\, sexual assault service providers assist thousands of survivors annually through crisis hotlines\, counseling\, advocacy\, and prevention programs demonstrating just how critical community support and awareness remain. The Zacharias Sexual Abuse Center (ZCenter) will host "Standing Silent Witness\," a powerful local/national movement that amplifies the voices of survivors. Each year\, community members gather and stand in silence for one hour\, wearing shirts or holding signs that share the words and experiences of those impacted by sexual violence voices that might otherwise go unheard. The demonstration is a simple yet powerful way to show survivors that the community sees them\, hears them\, and supports them. ZCenter provides free\, confidential\, and survivor-centered services\, including counseling\, advocacy\, and prevention education. With locations in Skokie and Gurnee\, the organization serves survivors and families across both Cook and Lake Counties while working to prevent sexual violence through education and community engagement. The theme color for Sexual Assault Awareness Month is teal. Please wear teal to the event.\n\nRSVP: https://www.eventbrite.com/e/1984626470197?aff=oddtdtcreator
X-ALT-DESC;FMTTYPE=text/html:<!DOCTYPE html><html><head><title></title></head><body aria-disabled="false"><p><strong fr-original-style="" style="font-weight: 700\;"><span style="color: rgb(4\, 140\, 127)\; font-size: 24px\;">Standing Silent Witness - Gurnee</span></strong></p><p>April is Sexual Assault Awareness Month (SAAM)&mdash\;a time when communities across the country come together to raise awareness\, support survivors\, and take meaningful action to end sexual violence.&nbsp\;</p><p>Sexual violence remains a serious issue both nationally and here in Illinois. In the United States\, someone is sexually assaulted approximately every 68 seconds\, and more than 400\,000 people experience sexual violence each year. Many survivors never report their assault due to fear\, stigma\, or lack of support. Here in Illinois\, sexual assault service providers assist thousands of survivors annually through crisis hotlines\, counseling\, advocacy\, and prevention programs&mdash\;demonstrating just how critical community support and awareness remain.&nbsp\;</p><p>The Zacharias Sexual Abuse Center (ZCenter) will host <strong fr-original-style="" style="font-weight: 700\;"><span style="color: rgb(4\, 140\, 127)\;">&ldquo\;Standing Silent Witness\,&rdquo\;</span></strong> a powerful local/national movement that amplifies the voices of survivors. Each year\, community members gather and stand in silence for one hour\, wearing shirts or holding signs that share the words and experiences of those impacted by sexual violence&mdash\;voices that might otherwise go unheard. The demonstration is a simple yet powerful way to show survivors that the community sees them\, hears them\, and supports them.&nbsp\;</p><p>ZCenter provides free\, confidential\, and survivor-centered services\, including counseling\, advocacy\, and prevention education. With locations in Skokie and Gurnee\, the organization serves survivors and families across both Cook and Lake Counties while working to prevent sexual violence through education and community engagement. <em><span style="color: rgb(4\, 140\, 127)\;"><strong fr-original-style="" style="font-weight: 700\;">The theme color for Sexual Assault Awareness Month is teal. Please wear teal to the event.</strong></span></em><span style="color: rgb(4\, 140\, 127)\;"><br><br></span><strong fr-original-style="" style="font-weight: 700\;"><span style="font-size: 18px\; color: rgb(4\, 140\, 127)\;">RSVP:&nbsp\;<meta charset="utf-8"><a data-saferedirecturl="https://www.google.com/url?q=https://www.eventbrite.com/e/1984626470197?aff%3Doddtdtcreator&source=gmail&ust=1773500203750000&usg=AOvVaw2eDt26qfoDN0RFhPQcq5Sj" fr-original-style="color: rgb(248\, 72\, 28)\; font-family: Calibri\, Arial\, Helvetica\, sans-serif\; font-size: 14.6667px\; font-style: normal\; font-variant-ligatures: normal\; font-variant-caps: normal\; font-weight: 400\; letter-spacing: normal\; orphans: 2\; text-align: left\; text-indent: 0px\; text-transform: none\; widows: 2\; word-spacing: 0px\; -webkit-text-stroke-width: 0px\; white-space: normal\; background-color: rgb(255\, 255\, 255)\;" href="https://www.eventbrite.com/e/1984626470197?aff=oddtdtcreator" style="color: rgb(248\, 72\, 28)\; font-family: Calibri\, Arial\, Helvetica\, sans-serif\; font-size: 14.6667px\; font-style: normal\; font-variant-ligatures: normal\; font-variant-caps: normal\; font-weight: 400\; letter-spacing: normal\; orphans: 2\; text-align: left\; text-indent: 0px\; text-transform: none\; widows: 2\; word-spacing: 0px\; -webkit-text-stroke-width: 0px\; white-space: normal\; background-color: rgb(255\, 255\, 255)\; user-select: auto\;" target="_blank" title="https://www.eventbrite.com/e/1984626470197?aff=oddtdtcreator">https://www.eventbrite.com/e/<wbr>1984626470197?aff=<wbr>oddtdtcreator</a></span></strong></p></body></html>
LOCATION:18 N County Street Waukegan 60085
UID:e.3903.1417250
SEQUENCE:3
DTSTAMP:20260421T085044Z
URL:https://business.gurneechamber.com/calendar/Details/standing-silent-witness-gurnee-1675248?sourceTypeId=Hub
END:VEVENT
END:VCALENDAR
